BEGIN:VCALENDAR
VERSION:2.0
PRODID:-//Inixindo - ECPv6.10.1.1//NONSGML v1.0//EN
CALSCALE:GREGORIAN
METHOD:PUBLISH
X-WR-CALNAME:Inixindo
X-ORIGINAL-URL:https://www.inixindo.id
X-WR-CALDESC:Events for Inixindo
REFRESH-INTERVAL;VALUE=DURATION:PT1H
X-Robots-Tag:noindex
X-PUBLISHED-TTL:PT1H
BEGIN:VTIMEZONE
TZID:UTC
BEGIN:STANDARD
TZOFFSETFROM:+0000
TZOFFSETTO:+0000
TZNAME:UTC
DTSTART:20250101T000000
END:STANDARD
END:VTIMEZONE
BEGIN:VEVENT
DTSTART;TZID=UTC:20250822T090000
DTEND;TZID=UTC:20250822T110000
DTSTAMP:20260425T061009
CREATED:20250806T042245Z
LAST-MODIFIED:20250826T075247Z
UID:35620-1755853200-1755860400@www.inixindo.id
SUMMARY:Mengenal TOGAF sebagai Solusi Arsitektur Perusahaan Masa Kini (Event Sudah Selesai)
DESCRIPTION:Mengenal TOGAF sebagai Solusi Arsitektur Perusahaan Masa Kini				\n				\n					\n		\n					\n		\n		\n		\n				\n				\n					   \n      \n         \n                  \n         Webinar  \n         \n                     \n               Mengenal TOGAF sebagai Solusi Arsitektur Perusahaan Masa Kini\n            \n                  \n                     TOGAF (The Open Group Architecture Framework) hadir sebagai solusi dalam merancang\, merencanakan\, mengimplementasikan\, dan mengelola arsitektur enterprise secara efektif. Dalam webinar ini\, kita akan membahas secara menyeluruh apa itu TOGAF\, bagaimana kerangka kerja ini membantu perusahaan menyelaraskan strategi bisnis dan IT\, serta peran pentingnya dalam pengambilan keputusan strategis jangka panjang. Materi akan disampaikan dengan pendekatan praktis yang mudah dipahami\, baik untuk pemula maupun profesional yang ingin mendalami dunia enterprise architecture.\n         \n         \n      \n   \n				\n				\n				\n				\n					        \n\n            \n\n	    \n                \n\n                    \n                    Daftar Sekarang!\n\n                                    \n	                        \n        \n        				\n				\n				\n				\n					\n	\n		\n\n	\n	Add to calendar	\n		\n	\n\n		\n			\n									\n	Google Calendar\n\n									\n	iCalendar\n\n									\n	Outlook 365\n\n									\n	Outlook Live\n\n							\n		\n\n		\n	\n\n				\n				\n				\n		\n				\n				\n																														\n				\n				\n				\n		\n		\n					\n		\n				\n				\n					✨ Mengapa Harus Ikut Workshop Ini?				\n				\n				\n				\n									Jika kamu adalah profesional IT\, arsitek sistem\, pengambil keputusan\, atau bahkan mahasiswa yang ingin memahami bagaimana perusahaan besar membangun fondasi digitalnya\, maka webinar ini wajib kamu ikuti. Inxpeople akan mendapatkan wawasan strategis yang relevan dengan perkembangan dunia bisnis modern\, serta memahami kenapa TOGAF menjadi standar global dalam membangun enterprise architecture. Ini adalah langkah awal yang tepat untuk memperkuat pemahamanmu dan menyiapkan diri menghadapi tantangan arsitektur digital masa kini. 								\n				\n				\n				\n					        \n    \n                📚 Agenda Workshop🔹 Pengenalan Enterprise Architecture🔹 Pengenalan TOGAF🔹 Kebutuhan Pemakaian TOGAF🔹 Manfaat TOGAF🔹 Pengenalan ADM (Architecture Development Method)🔹 Pengenalan Enterprise Continuum🔹 Penerapan TOGAF (Studi Kasus) \n                \n                📊 Kapan dan Dimana?🗓 Tanggal: 22 Agustus 2025⏰ Waktu: 09.00 – 11.00 WIB📍 Lokasi: Zoom Meeting👨‍🏫 Narasumber: M. Hasbunallah Amril S. (Instruktur Profesional Inixindo) \n                \n                💻 Kebutuhan Sistem🌐 Koneksi Internet💻 Laptop/PC  \n                \n                🎯 Apa yang Akan Inxpeople Dapatkan?✅ Akses Live: Ikuti pembelajaran langsung dan interaktif bersama instruktur berpengalaman.✅ Video Rekaman: Tidak sempat hadir? Tenang\, Anda bisa menonton ulang sesi workshop kapan saja!✅ File Materi: Dapatkan materi pembelajaran dalam format digital untuk panduan lebih lanjut.✅ E-Sertifikat: Buktikan kemampuan baru Anda dengan sertifikat resmi dari Inixindo.✅ Voucher Training: Kesempatan mengikuti training lainnya dengan harga spesial.🎁 Hadiah Menarik: Raih kesempatan memenangkan hadiah seru untuk peserta beruntung! \n                				\n				\n				\n					\n				\n		\n					\n		\n				\n				\n					\n                \n\n  \n\n\n\n\n\n\n\n\n\n\n\n\nNama Lengkap *\n      \n\n\n\nAlamat Email (Wajib Menggunakan Email Perusahaan/instansi) *\n      \n\n\n\nNomor Telepon (WhatsApp) *\n     \n\n\n\nPerusahaan/Instansi *\n    —Please choose an option—AkademikPemerintahanBUMN/BUMDKementerianSwasta\n\n\n\nNama Perusahaan/Instansi *\n    \n\n\n\nProfesi *\n    —Please choose an option—ITSDMDevelopmentPengajarMahasiswaAdministrasi  Profesi Lainnya\n\n\n\n\nSudah Mengetahui Inixindo? *\n    —Please choose an option—SudahBelum\n\n\n\nMengetahui info Event ini dari? *\n    —Please choose an option—WebsiteEmailWhatsAppFacebookInstagramLinkedInTelegramTikTokTwitterTeman/Relasi\n\n\n\n\n    Pilih Paket Anda *\n        FreePremium\n\n\n\n\n\n    Free\n    \n        Akses Live\n        Rekaman Ulang\n        Hadiah menarik (bagi yang beruntung)\n    \n\n\n\n\n\n\n    Premium (Rp50.000)\n    \n    Pembayaran melalui:\n    Bank Central Asia (BCA) \n    7040777614\n    PT Inixindopersada Rekayasakomputer\n\n    \n        Akses Live\n        Rekaman Ulang\n        File Materi\n        E-sertifikat\n        Voucher Training\n        Hadiah menarik (bagi yang beruntung)\n    \n\n\nUpload Bukti Bayar *\n    \n\n\n\n\n\n\n\n            				\n				\n				\n				\n				\n					Registrasi Sudah Ditutup				\n				\n					\n				\n				\n		\n		\n		\n				\n				\n							\n							\n											\n													\n										Kamis\, 22 Agustus 2025\n									\n								\n											\n													\n										09.00 - 11.00 WIB\n									\n								\n											\n													\n										Zoom Meeting\n									\n								\n											\n													\n										Webinar\n									\n						\n						\n				\n				\n				\n				\n		\n		\n				\n				\n					ORGANIZER				\n				\n				\n				\n					Inixindo				\n				\n				\n				\n							\n							\n											\n													\n										021-579-408-68\n									\n								\n											\n													\n										info@inixindo.id\n									\n								\n											\n													\n										inixindo.id\n									\n						\n						\n				\n				\n		\n				\n				\n							\n			\n		\n						\n				\n				\n		\n				\n				\n					VENUE				\n				\n				\n				\n					Inixindo				\n				\n				\n				\n									Zoom Meeting 								\n				\n				\n				\n							\n							\n											\n													\n										021-579-408-68\n									\n								\n											\n													\n										info@inixindo.id
URL:https://www.inixindo.id/event/mengenal-togaf-sebagai-solusi-arsitektur-perusahaan-masa-kini/
LOCATION:Zoom Meeting\, Zoom Meeting\, Jakarta Selatan\, Indonesia
ATTACH;FMTTYPE=image/jpeg:https://www.inixindo.id/wp-content/uploads/2025/08/Flyer-Webinar-Mengenal-TOGAF-sebagai-Solusi-Arsitektur-Perusahaan-Masa-Kini.jpg
END:VEVENT
END:VCALENDAR