BEGIN:VCALENDAR
VERSION:2.0
PRODID:-//Inixindo - ECPv6.10.1.1//NONSGML v1.0//EN
CALSCALE:GREGORIAN
METHOD:PUBLISH
X-WR-CALNAME:Inixindo
X-ORIGINAL-URL:https://www.inixindo.id
X-WR-CALDESC:Events for Inixindo
REFRESH-INTERVAL;VALUE=DURATION:PT1H
X-Robots-Tag:noindex
X-PUBLISHED-TTL:PT1H
BEGIN:VTIMEZONE
TZID:UTC
BEGIN:STANDARD
TZOFFSETFROM:+0000
TZOFFSETTO:+0000
TZNAME:UTC
DTSTART:20250101T000000
END:STANDARD
END:VTIMEZONE
BEGIN:VEVENT
DTSTART;TZID=UTC:20250626T090000
DTEND;TZID=UTC:20250626T120000
DTSTAMP:20260425T002357
CREATED:20250422T064131Z
LAST-MODIFIED:20250704T031804Z
UID:34305-1750928400-1750939200@www.inixindo.id
SUMMARY:Membangun Aplikasi Manajemen Inventaris Offline dengan Kotlin (Event Sudah Selesai)
DESCRIPTION:Membangun Aplikasi Manajemen  Inventaris Offline dengan Kotlin				\n				\n					\n		\n					\n		\n		\n		\n				\n				\n					   \n      \n         \n                  \n         Workshop  \n         \n                     \n               Membangun Aplikasi Manajemen Inventaris Offline dengan Kotlin\n            \n                  \n                     Pada workshop ini\, inxpeople akan diajak memahami cara mudah membangun aplikasi Android menggunakan Kotlin\, dengan studi kasus yang berfokus pada Aplikasi Manajemen Inventaris Offline. Materi akan mencakup seluruh proses fundamental\, mulai dari mendesain antarmuka pengguna yang intuitif\, mengolah input data\, menyimpan data secara lokal menggunakan Room (SQLite)\, hingga menampilkan daftar data secara dinamis. Aplikasi ini dirancang sebagai starter project yang memiliki potensi besar untuk dikembangkan lebih lanjut menjadi sistem inventaris gudang\, katalog produk\, atau aplikasi pencatatan operasional yang lebih kompleks dan fungsional sesuai kebutuhan inxpeople.\n         \n         \n      \n   \n				\n				\n				\n				\n					        \n\n            \n\n	    \n                \n\n                    \n                    Daftar Sekarang!\n\n                                    \n	                        \n        \n        				\n				\n				\n				\n					\n	\n		\n\n	\n	Add to calendar	\n		\n	\n\n		\n			\n									\n	Google Calendar\n\n									\n	iCalendar\n\n									\n	Outlook 365\n\n									\n	Outlook Live\n\n							\n		\n\n		\n	\n\n				\n				\n				\n		\n				\n				\n																														\n				\n				\n				\n		\n		\n					\n		\n				\n				\n					✨ Mengapa Harus Ikut Workshop Ini?				\n				\n				\n				\n									Inxpeople akan belajar dari nol bagaimana mendesain antarmuka\, mengimplementasikan database lokal dengan Room (SQLite)\, hingga menciptakan tampilan data yang dinamis melalui studi kasus nyata dan aplikatif\, sehingga memperoleh keahlian teknis yang sangat diminati di pasar kerja serta memiliki starter project yang siap dikembangkan. 								\n				\n				\n				\n					        \n    \n                📚 Agenda Workshop🔹 Pengenalan project Android Kotlin & struktur aplikasi🔹 Desain form input barang menggunakan XML🔹 Penyimpanan data secara lokal menggunakan Room (SQLite ORM)🔹 Menampilkan daftar inventaris dengan RecyclerView🔹 Menambahkan fitur pencarian barang secara lokal \n                \n                📊 Kapan dan Dimana?🗓 Tanggal: 26 Juni 2025⏰ Waktu: 09.00 – 12.00 WIB📍 Lokasi: Zoom Meeting👨‍🏫 Narasumber: Aisyah Ami W. (Instruktur Profesional Inixindo) \n                \n                💻 Kebutuhan Sistem🌐 Koneksi Internet Stabil💻 Laptop/PC (min. RAM 8GB)📱 Android Studio versi terbaru \n                \n                🎯 Apa yang Akan Inxpeople Dapatkan?✅ Akses Live: Ikuti pembelajaran langsung dan interaktif bersama instruktur berpengalaman.✅ Video Rekaman: Tidak sempat hadir? Tenang\, Anda bisa menonton ulang sesi workshop kapan saja!✅ File Materi: Dapatkan materi pembelajaran dalam format digital untuk panduan lebih lanjut.✅ E-Sertifikat: Buktikan kemampuan baru Anda dengan sertifikat resmi dari Inixindo.✅ Voucher Training: Kesempatan mengikuti training lainnya dengan harga spesial.🎁 Hadiah Menarik: Raih kesempatan memenangkan hadiah seru untuk peserta beruntung! \n                				\n				\n				\n					\n				\n		\n					\n		\n				\n				\n					\n                \n\n  \n\n\n\n\n\n\n\n\n\n\n\n\nNama Lengkap *\n      \n\n\n\nAlamat Email (Wajib Menggunakan Email Perusahaan/instansi) *\n      \n\n\n\nNomor Telepon (WhatsApp) *\n     \n\n\n\nPerusahaan/Instansi *\n    —Please choose an option—AkademikPemerintahanBUMN/BUMDKementerianSwasta\n\n\n\nNama Perusahaan/Instansi *\n    \n\n\n\nProfesi *\n    —Please choose an option—ITSDMDevelopmentPengajarMahasiswaAdministrasi  Profesi Lainnya\n\n\n\n\nSudah Mengetahui Inixindo? *\n    —Please choose an option—SudahBelum\n\n\n\nMengetahui info Event ini dari? *\n    —Please choose an option—WebsiteEmailWhatsAppFacebookInstagramLinkedInTelegramTikTokTwitterTeman/Relasi\n\n\n\n\n    Pilih Paket Anda *\n        FreePremium\n\n\n\n\n\n    Free\n    \n        Akses Live\n        Rekaman Ulang\n        Hadiah menarik (bagi yang beruntung)\n    \n\n\n\n\n\n\n    Premium (Rp50.000)\n    \n    Pembayaran melalui:\n    Bank Central Asia (BCA) \n    7040777614\n    PT Inixindopersada Rekayasakomputer\n\n    \n        Akses Live\n        Rekaman Ulang\n        File Materi\n        E-sertifikat\n        Voucher Training\n        Hadiah menarik (bagi yang beruntung)\n    \n\n\nUpload Bukti Bayar *\n    \n\n\n\n\n\n\n\n            				\n				\n				\n				\n				\n					Registrasi Sudah Ditutup				\n				\n					\n				\n				\n		\n		\n		\n				\n				\n							\n							\n											\n													\n										Kamis\, 26 Juni 2025\n									\n								\n											\n													\n										09.00 - 12.00 WIB\n									\n								\n											\n													\n										Zoom Meeting\n									\n								\n											\n													\n										Workshop\n									\n						\n						\n				\n				\n				\n				\n		\n		\n				\n				\n					ORGANIZER				\n				\n				\n				\n					Inixindo				\n				\n				\n				\n							\n							\n											\n													\n										021-579-408-68\n									\n								\n											\n													\n										info@inixindo.id\n									\n								\n											\n													\n										inixindo.id\n									\n						\n						\n				\n				\n		\n				\n				\n							\n			\n		\n						\n				\n				\n		\n				\n				\n					VENUE				\n				\n				\n				\n					Inixindo				\n				\n				\n				\n									Zoom Meeting 								\n				\n				\n				\n							\n							\n											\n													\n										021-579-408-68\n									\n								\n											\n													\n										info@inixindo.id
URL:https://www.inixindo.id/event/membangun-aplikasi-manajemen-inventaris-offline-dengan-kotlin/
LOCATION:Zoom Meeting\, Zoom Meeting\, Jakarta Selatan\, Indonesia
ATTACH;FMTTYPE=image/jpeg:https://www.inixindo.id/wp-content/uploads/2025/04/Profil_Wa_Kotlin.jpg
END:VEVENT
END:VCALENDAR