BEGIN:VCALENDAR
VERSION:2.0
PRODID:-//Inixindo - ECPv6.10.1.1//NONSGML v1.0//EN
CALSCALE:GREGORIAN
METHOD:PUBLISH
X-WR-CALNAME:Inixindo
X-ORIGINAL-URL:https://www.inixindo.id
X-WR-CALDESC:Events for Inixindo
REFRESH-INTERVAL;VALUE=DURATION:PT1H
X-Robots-Tag:noindex
X-PUBLISHED-TTL:PT1H
BEGIN:VTIMEZONE
TZID:UTC
BEGIN:STANDARD
TZOFFSETFROM:+0000
TZOFFSETTO:+0000
TZNAME:UTC
DTSTART:20250101T000000
END:STANDARD
END:VTIMEZONE
BEGIN:VEVENT
DTSTART;TZID=UTC:20250828T090000
DTEND;TZID=UTC:20250828T110000
DTSTAMP:20260425T091212
CREATED:20250819T042626Z
LAST-MODIFIED:20250829T005905Z
UID:35970-1756371600-1756378800@www.inixindo.id
SUMMARY:Making ChatGPT and Generative AI Work for You (Event Sudah Selesai)
DESCRIPTION:Making ChatGPT and Generative  AI Work for You\n				\n				\n					\n		\n					\n		\n		\n		\n				\n				\n					   \n      \n         \n                  \n         Webinar  \n         \n                     \n               Making ChatGPT and Generative AI Work for You\n\n            \n                  \n                     Generative AI dan ChatGPT kini menjadi salah satu teknologi paling berpengaruh di dunia kerja modern. Namun\, banyak orang masih bingung bagaimana cara memanfaatkannya secara efektif untuk meningkatkan produktivitas\, kreativitas\, dan efisiensi kerja. Dalam webinar ini\, kita akan membahas bagaimana ChatGPT dan teknologi generative AI dapat digunakan secara praktis di berbagai bidang—mulai dari penulisan\, analisis data\, brainstorming ide\, hingga mendukung pengambilan keputusan.\n         \n         \n      \n   \n				\n				\n				\n				\n					        \n\n            \n\n	    \n                \n\n                    \n                    Daftar Sekarang!\n\n                                    \n	                        \n        \n        				\n				\n				\n				\n					\n	\n		\n\n	\n	Add to calendar	\n		\n	\n\n		\n			\n									\n	Google Calendar\n\n									\n	iCalendar\n\n									\n	Outlook 365\n\n									\n	Outlook Live\n\n							\n		\n\n		\n	\n\n				\n				\n				\n		\n				\n				\n																														\n				\n				\n				\n		\n		\n					\n		\n				\n				\n					✨ Mengapa Harus Ikut Webinar Ini?				\n				\n				\n				\n									Kalau kamu sering mendengar tentang AI tapi belum tahu bagaimana memanfaatkannya secara maksimal\, maka webinar ini adalah kesempatan terbaik. Kamu akan mendapatkan gambaran praktis bagaimana ChatGPT dan generative AI bisa meningkatkan produktivitas\, mempercepat proses kerja\, dan bahkan membuka peluang baru dalam dunia bisnis maupun karier. Webinar ini dirancang bukan hanya untuk profesional IT\, tapi juga untuk siapa saja yang ingin lebih siap menghadapi transformasi digital. Dengan mengikuti webinar ini\, kamu akan lebih percaya diri dalam menggunakan AI\, sekaligus memahami mengapa teknologi ini akan menjadi keterampilan penting di masa depan. 								\n				\n				\n				\n					        \n    \n                📚 Agenda Webinar🔹 Menjelaskan dasar-dasar kecerdasan buatan (AI) dan AI generatif.🔹 Menghasilkan teks menggunakan AI.🔹 Menghasilkan kode pemrograman menggunakan AI.🔹 Menghasilkan gambar dan video menggunakan AI.🔹 Menghasilkan audio menggunakan AI.🔹 Mengidentifikasi tantangan dan risiko yang terkait dengan penggunaan generative AI.🔹 Menerapkan strategi organisasi untuk adopsi dan pemanfaatan generative AI secara efektif. \n                \n                📊 Kapan dan Dimana?🗓 Tanggal: 28 Agustus 2025⏰ Waktu: 09.00 – 11.00 WIB📍 Lokasi: Zoom Meeting👨‍🏫 Narasumber: Fauzivy R. (Instruktur Profesional Inixindo) \n                \n                💻 Kebutuhan Sistem🌐 Koneksi Internet💻 Laptop/PC  \n                \n                🎯 Apa yang Akan Inxpeople Dapatkan?✅ Akses Live: Ikuti pembelajaran langsung dan interaktif bersama instruktur berpengalaman.✅ Video Rekaman: Tidak sempat hadir? Tenang\, Anda bisa menonton ulang sesi workshop kapan saja!✅ File Materi: Dapatkan materi pembelajaran dalam format digital untuk panduan lebih lanjut.✅ E-Sertifikat: Buktikan kemampuan baru Anda dengan sertifikat resmi dari Inixindo.✅ Voucher Training: Kesempatan mengikuti training lainnya dengan harga spesial.🎁 Hadiah Menarik: Raih kesempatan memenangkan hadiah seru untuk peserta beruntung! \n                				\n				\n				\n					\n				\n		\n					\n		\n				\n				\n					\n                \n\n  \n\n\n\n\n\n\n\n\n\n\n\n\nNama Lengkap *\n      \n\n\n\nAlamat Email (Wajib Menggunakan Email Perusahaan/instansi) *\n      \n\n\n\nNomor Telepon (WhatsApp) *\n     \n\n\n\nPerusahaan/Instansi *\n    —Please choose an option—AkademikPemerintahanBUMN/BUMDKementerianSwasta\n\n\n\nNama Perusahaan/Instansi *\n    \n\n\n\nProfesi *\n    —Please choose an option—ITSDMDevelopmentPengajarMahasiswaAdministrasi  Profesi Lainnya\n\n\n\n\nSudah Mengetahui Inixindo? *\n    —Please choose an option—SudahBelum\n\n\n\nMengetahui info Event ini dari? *\n    —Please choose an option—WebsiteEmailWhatsAppFacebookInstagramLinkedInTelegramTikTokTwitterTeman/Relasi\n\n\n\n\n    Pilih Paket Anda *\n        FreePremium\n\n\n\n\n\n    Free\n    \n        Akses Live\n        Rekaman Ulang\n        Hadiah menarik (bagi yang beruntung)\n    \n\n\n\n\n\n\n    Premium (Rp50.000)\n    \n    Pembayaran melalui:\n    Bank Central Asia (BCA) \n    7040777614\n    PT Inixindopersada Rekayasakomputer\n\n    \n        Akses Live\n        Rekaman Ulang\n        File Materi\n        E-sertifikat\n        Voucher Training\n        Hadiah menarik (bagi yang beruntung)\n    \n\n\nUpload Bukti Bayar *\n    \n\n\n\n\n\n\n\n            				\n				\n				\n				\n				\n					Registrasi Sudah Ditutup				\n				\n					\n				\n				\n		\n		\n		\n				\n				\n							\n							\n											\n													\n										Kamis\, 28 Agustus 2025\n									\n								\n											\n													\n										09.00 - 11.00 WIB\n									\n								\n											\n													\n										Zoom Meeting\n									\n								\n											\n													\n										Webinar\n									\n						\n						\n				\n				\n				\n				\n		\n		\n				\n				\n					ORGANIZER				\n				\n				\n				\n					Inixindo				\n				\n				\n				\n							\n							\n											\n													\n										021-579-408-68\n									\n								\n											\n													\n										info@inixindo.id\n									\n								\n											\n													\n										inixindo.id\n									\n						\n						\n				\n				\n		\n				\n				\n							\n			\n		\n						\n				\n				\n		\n				\n				\n					VENUE				\n				\n				\n				\n					Inixindo				\n				\n				\n				\n									Zoom Meeting 								\n				\n				\n				\n							\n							\n											\n													\n										021-579-408-68\n									\n								\n											\n													\n										info@inixindo.id
URL:https://www.inixindo.id/event/making-chatgpt-and-generative-ai-work-for-you/
LOCATION:Zoom Meeting\, Zoom Meeting\, Jakarta Selatan\, Indonesia
ATTACH;FMTTYPE=image/jpeg:https://www.inixindo.id/wp-content/uploads/2025/08/Webinar-Making-ChatGPT-and-Generative-AI-Work-for-You.jpg
END:VEVENT
END:VCALENDAR