BEGIN:VCALENDAR
VERSION:2.0
PRODID:-//Inixindo - ECPv6.10.1.1//NONSGML v1.0//EN
CALSCALE:GREGORIAN
METHOD:PUBLISH
X-WR-CALNAME:Inixindo
X-ORIGINAL-URL:https://www.inixindo.id
X-WR-CALDESC:Events for Inixindo
REFRESH-INTERVAL;VALUE=DURATION:PT1H
X-Robots-Tag:noindex
X-PUBLISHED-TTL:PT1H
BEGIN:VTIMEZONE
TZID:UTC
BEGIN:STANDARD
TZOFFSETFROM:+0000
TZOFFSETTO:+0000
TZNAME:UTC
DTSTART:20250101T000000
END:STANDARD
END:VTIMEZONE
BEGIN:VEVENT
DTSTART;TZID=UTC:20251212T090000
DTEND;TZID=UTC:20251212T110000
DTSTAMP:20260426T042802
CREATED:20250919T013233Z
LAST-MODIFIED:20251216T013726Z
UID:36257-1765530000-1765537200@www.inixindo.id
SUMMARY:COBIT 2019 untuk Tata Kelola Informasi yang Efektif (Event Sudah Selesai)
DESCRIPTION:COBIT 2019 untuk Tata Kelola   Informasi yang Efektif\n				\n				\n					\n		\n					\n		\n		\n		\n				\n				\n					   \n      \n         \n                  \n         Webinar  \n         \n                     \n               COBIT 2019 untuk Tata Kelola Informasi yang Efektif\n\n            \n                  \n                     Di era digital\, pengelolaan informasi yang efektif bukan lagi sekadar pilihan\, tapi kebutuhan strategis bagi setiap organisasi. COBIT 2019 hadir sebagai kerangka kerja global yang membantu perusahaan memastikan tata kelola dan manajemen informasi berjalan terarah\, efisien\, serta selaras dengan tujuan bisnis. Dalam webinar ini\, kamu akan mempelajari dasar-dasar COBIT 2019\, perannya dalam tata kelola TI modern\, serta bagaimana framework ini mendukung pencapaian kinerja organisasi. Materi akan disampaikan dengan pendekatan praktis agar mudah dipahami\, baik untuk pemula maupun profesional yang ingin memperdalam pengetahuan tentang governance IT.\n         \n         \n      \n   \n				\n				\n				\n				\n					        \n\n            \n\n	    \n                \n\n                    \n                    Daftar Sekarang!\n\n                                    \n	                        \n        \n        				\n				\n				\n				\n					\n	\n		\n\n	\n	Add to calendar	\n		\n	\n\n		\n			\n									\n	Google Calendar\n\n									\n	iCalendar\n\n									\n	Outlook 365\n\n									\n	Outlook Live\n\n							\n		\n\n		\n	\n\n				\n				\n				\n		\n				\n				\n																														\n				\n				\n				\n		\n		\n					\n		\n				\n				\n					✨ Mengapa Harus Ikut Webinar Ini?				\n				\n				\n				\n									Jika kamu ingin memahami bagaimana perusahaan dapat menjaga konsistensi\, transparansi\, dan akuntabilitas dalam mengelola teknologi informasi\, maka webinar ini adalah pilihan tepat. Kamu akan mendapat insight langsung tentang bagaimana COBIT 2019 bisa diterapkan untuk memperkuat tata kelola informasi\, meningkatkan efisiensi operasional\, dan memastikan kepatuhan terhadap standar internasional. Ini adalah kesempatan emas untuk membekali dirimu dengan pengetahuan yang relevan dan dibutuhkan dalam dunia profesional TI masa kini. 								\n				\n				\n				\n					        \n    \n                📚 Agenda Webinar🔹 Pengenalan COBIT 2019 – Memahami dasar framework tata kelola TI modern.🔹 Governance vs Management Objectives – Perbedaan mendasar dalam pengelolaan dan pengawasan TI.🔹 40 Core Concepts – Elemen inti yang menjadi pondasi COBIT 2019.🔹 Goals Cascade – Menyelaraskan tujuan TI dengan strategi bisnis organisasi.🔹 Design Factors – Faktor-faktor penting dalam mendesain tata kelola yang efektif.🔹 Focus Areas – Area utama yang menjadi perhatian dalam penerapan COBIT.🔹 Prinsip-prinsip COBIT 2019 – Panduan utama dalam implementasi framework.🔹 Manfaat Penerapan COBIT 2019 – Nilai tambah nyata bagi organisasi melalui tata kelola TI yang baik. \n                \n                📊 Kapan dan Dimana?🗓 Tanggal: 12 Desember 2025⏰ Waktu: 09.00 – 11.00 WIB📍 Lokasi: Zoom Meeting👨‍🏫 Narasumber: M. Hasbunallah Amril S. (Instruktur Profesional Inixindo) \n                \n                💻 Kebutuhan Sistem🌐 Koneksi Internet💻 Laptop/PC  \n                \n                🎯 Apa yang Akan Inxpeople Dapatkan?✅ Akses Live: Ikuti pembelajaran langsung dan interaktif bersama instruktur berpengalaman.✅ Video Rekaman: Tidak sempat hadir? Tenang\, Anda bisa menonton ulang sesi workshop kapan saja!✅ File Materi: Dapatkan materi pembelajaran dalam format digital untuk panduan lebih lanjut.✅ E-Sertifikat: Buktikan kemampuan baru Anda dengan sertifikat resmi dari Inixindo.✅ Voucher Training: Kesempatan mengikuti training lainnya dengan harga spesial.🎁 Hadiah Menarik: Raih kesempatan memenangkan hadiah seru untuk peserta beruntung! \n                				\n				\n				\n					\n				\n		\n					\n		\n				\n				\n					\n                \n\n  \n\n\n\n\n\n\n\n\n\n\n\n\nNama Lengkap *\n      \n\n\n\nAlamat Email (Wajib Menggunakan Email Perusahaan/instansi) *\n      \n\n\n\nNomor Telepon (WhatsApp) *\n     \n\n\n\nPerusahaan/Instansi *\n    —Please choose an option—AkademikPemerintahanBUMN/BUMDKementerianSwasta\n\n\n\nNama Perusahaan/Instansi *\n    \n\n\n\nProfesi *\n    —Please choose an option—ITSDMDevelopmentPengajarMahasiswaAdministrasi  Profesi Lainnya\n\n\n\n\nSudah Mengetahui Inixindo? *\n    —Please choose an option—SudahBelum\n\n\n\nMengetahui info Event ini dari? *\n    —Please choose an option—WebsiteEmailWhatsAppFacebookInstagramLinkedInTelegramTikTokTwitterTeman/Relasi\n\n\n\n\n    Pilih Paket Anda *\n        FreePremium\n\n\n\n\n\n    Free\n    \n        Akses Live\n        Rekaman Ulang\n        Hadiah menarik (bagi yang beruntung)\n    \n\n\n\n\n\n\n    Premium (Rp50.000)\n    \n    Pembayaran melalui:\n    Bank Central Asia (BCA) \n    7040777614\n    PT Inixindopersada Rekayasakomputer\n\n    \n        Akses Live\n        Rekaman Ulang\n        File Materi\n        E-sertifikat\n        Voucher Training\n        Hadiah menarik (bagi yang beruntung)\n    \n\n\nUpload Bukti Bayar *\n    \n\n\n\n\n\n\n\n            				\n				\n				\n				\n				\n					Event Sudah Selesai				\n				\n					\n				\n				\n		\n		\n		\n				\n				\n							\n							\n											\n													\n										Jumat\, 12 Desember 2025\n									\n								\n											\n													\n										09.00 - 11.00 WIB\n									\n								\n											\n													\n										Zoom Meeting\n									\n								\n											\n													\n										Webinar\n									\n						\n						\n				\n				\n				\n				\n		\n		\n				\n				\n					ORGANIZER				\n				\n				\n				\n					Inixindo				\n				\n				\n				\n							\n							\n											\n													\n										021-579-408-68\n									\n								\n											\n													\n										info@inixindo.id\n									\n								\n											\n													\n										inixindo.id\n									\n						\n						\n				\n				\n		\n				\n				\n							\n			\n		\n						\n				\n				\n		\n				\n				\n					VENUE				\n				\n				\n				\n					Inixindo				\n				\n				\n				\n									Zoom Meeting 								\n				\n				\n				\n							\n							\n											\n													\n										021-579-408-68\n									\n								\n											\n													\n										info@inixindo.id
URL:https://www.inixindo.id/event/cobit-2019-untuk-tata-kelola-informasi-yang-efektif/
LOCATION:Zoom Meeting\, Zoom Meeting\, Jakarta Selatan\, Indonesia
ATTACH;FMTTYPE=image/jpeg:https://www.inixindo.id/wp-content/uploads/2025/09/COBIT-2019-untuk-Tata-Kelola-Informasi-yang-Efektif.jpg
END:VEVENT
END:VCALENDAR